BEGIN:VCALENDAR
VERSION:2.0
PRODID:-//ACIT - ECPv6.15.20//NONSGML v1.0//EN
CALSCALE:GREGORIAN
METHOD:PUBLISH
X-WR-CALNAME:ACIT
X-ORIGINAL-URL:https://acit31.com
X-WR-CALDESC:Évènements pour ACIT
REFRESH-INTERVAL;VALUE=DURATION:PT1H
X-Robots-Tag:noindex
X-PUBLISHED-TTL:PT1H
BEGIN:VTIMEZONE
TZID:Europe/Paris
BEGIN:DAYLIGHT
TZOFFSETFROM:+0100
TZOFFSETTO:+0200
TZNAME:CEST
DTSTART:20240331T010000
END:DAYLIGHT
BEGIN:STANDARD
TZOFFSETFROM:+0200
TZOFFSETTO:+0100
TZNAME:CET
DTSTART:20241027T010000
END:STANDARD
BEGIN:DAYLIGHT
TZOFFSETFROM:+0100
TZOFFSETTO:+0200
TZNAME:CEST
DTSTART:20250330T010000
END:DAYLIGHT
BEGIN:STANDARD
TZOFFSETFROM:+0200
TZOFFSETTO:+0100
TZNAME:CET
DTSTART:20251026T010000
END:STANDARD
BEGIN:DAYLIGHT
TZOFFSETFROM:+0100
TZOFFSETTO:+0200
TZNAME:CEST
DTSTART:20260329T010000
END:DAYLIGHT
BEGIN:STANDARD
TZOFFSETFROM:+0200
TZOFFSETTO:+0100
TZNAME:CET
DTSTART:20261025T010000
END:STANDARD
END:VTIMEZONE
BEGIN:VEVENT
DTSTART;TZID=Europe/Paris:20250617T193000
DTEND;TZID=Europe/Paris:20250617T220000
DTSTAMP:20260420T013416
CREATED:20250611T140304Z
LAST-MODIFIED:20250611T140355Z
UID:2952-1750188600-1750197600@acit31.com
SUMMARY:Cours de Torah - Biscotto
DESCRIPTION:“Être lumière pour soi \n\n\n\nÊtre lumière pour l’autre” \n\n\n\n \n\n\n\npar le avec \n\n\n\nRav WERTENSCHLAG \n\n\n\nde torah box – jérusalem
URL:https://acit31.com/evenement/cours-de-torah-pizzeria-edj-4
CATEGORIES:cours
ATTACH;FMTTYPE=image/jpeg:https://acit31.com/wp-content/uploads/2025/06/Cours-Pizzeria-TOTEM.jpg
END:VEVENT
END:VCALENDAR