BEGIN:VCALENDAR
VERSION:2.0
PRODID:-//ACIT - ECPv6.15.20//NONSGML v1.0//EN
CALSCALE:GREGORIAN
METHOD:PUBLISH
X-ORIGINAL-URL:https://acit31.com
X-WR-CALDESC:Évènements pour ACIT
REFRESH-INTERVAL;VALUE=DURATION:PT1H
X-Robots-Tag:noindex
X-PUBLISHED-TTL:PT1H
BEGIN:VTIMEZONE
TZID:Europe/Paris
BEGIN:DAYLIGHT
TZOFFSETFROM:+0100
TZOFFSETTO:+0200
TZNAME:CEST
DTSTART:20230326T010000
END:DAYLIGHT
BEGIN:STANDARD
TZOFFSETFROM:+0200
TZOFFSETTO:+0100
TZNAME:CET
DTSTART:20231029T010000
END:STANDARD
BEGIN:DAYLIGHT
TZOFFSETFROM:+0100
TZOFFSETTO:+0200
TZNAME:CEST
DTSTART:20240331T010000
END:DAYLIGHT
BEGIN:STANDARD
TZOFFSETFROM:+0200
TZOFFSETTO:+0100
TZNAME:CET
DTSTART:20241027T010000
END:STANDARD
BEGIN:DAYLIGHT
TZOFFSETFROM:+0100
TZOFFSETTO:+0200
TZNAME:CEST
DTSTART:20250330T010000
END:DAYLIGHT
BEGIN:STANDARD
TZOFFSETFROM:+0200
TZOFFSETTO:+0100
TZNAME:CET
DTSTART:20251026T010000
END:STANDARD
END:VTIMEZONE
BEGIN:VEVENT
DTSTART;TZID=Europe/Paris:20240906T190000
DTEND;TZID=Europe/Paris:20240907T113000
DTSTAMP:20260425T154945
CREATED:20240723T085544Z
LAST-MODIFIED:20240723T085834Z
UID:1282-1725649200-1725708600@acit31.com
SUMMARY:Chabbat Communautaire
DESCRIPTION:L’ACIT vous invite à célébrer un Chabbat communautaire spécial les 6 et 7 septembre à l’Espace du Judaïsme\, situé au 2 Place Riquet\, 31000 Toulouse. \n\n\n\nRejoignez-nous pour partager un moment de convivialité\, de spiritualité et de tradition au cœur de notre communauté. Cette rencontre sera l’occasion idéale pour renforcer nos liens et vivre ensemble un Chabbat inoubliable. \n\n\n\nInformations pratiques : \n\n\n\n\nDates : 6 et 7 septembre\n\n\n\nLieu : Espace du Judaïsme\, 2 Place Riquet\, 31000 Toulouse\n\n\n\nParticipation aux frais :\n\n15€ pour les étudiants et les enfants\n\n\n\n35€ par repas\n\n\n\n\n\n\nPour plus d’informations et pour réserver vos places\, veuillez contacter le 05 62 73 46 46. \n\n\n\nNe manquez pas cette opportunité de vivre un Chabbat chaleureux et enrichissant en compagnie de notre communauté. Nous vous attendons nombreux !
URL:https://acit31.com/evenement/chabbat-communautaire
CATEGORIES:chabbat
END:VEVENT
BEGIN:VEVENT
DTSTART;TZID=Europe/Paris:20240909T190000
DTEND;TZID=Europe/Paris:20240909T233000
DTSTAMP:20260425T154945
CREATED:20240716T074920Z
LAST-MODIFIED:20240723T084607Z
UID:1251-1725908400-1725924600@acit31.com
SUMMARY:Grand Dîner de Gala de l'ACIT
DESCRIPTION:Le lundi 9 septembre à 19h\, l’Espace du Judaïsme\, situé au 2 Place Riquet\, accueillera un événement exceptionnel : le Grand Dîner de Gala de l’ACIT. \n\n\n\nCette soirée prestigieuse sera marquée par la remise d’un legs au profit de la recherche médicale en Israël et des orphelins de guerre en Israël. \n\n\n\nNous aurons l’honneur de compter sur la participation de personnalités éminentes : \n\n\n\n\nÉlie Korchia – Président du Consistoire de France\n\n\n\nAriel Goldmann – Président du FSJU France\n\n\n\nMichel Ktorza – Président de MDA France\n\n\n\nVictor Wintz – Directeur de MDA France\n\n\n\n\nPour agrémenter cette soirée\, nous aurons le plaisir de profiter de l’animation musicale du Vogue Live Band. \n\n\n\nLe prix d’entrée est fixé à 50€ par personne. Pour réserver votre place\, veuillez contacter le 05 62 73 46 46. \n\n\n\nRejoignez-nous pour cette soirée de gala où solidarité et générosité se rencontreront dans une ambiance conviviale et festive. \n\n\n\n\n\n\n\nPAF :
URL:https://acit31.com/evenement/gala-de-lacit
END:VEVENT
BEGIN:VEVENT
DTSTART;TZID=Europe/Paris:20240925T193000
DTEND;TZID=Europe/Paris:20240925T213000
DTSTAMP:20260425T154945
CREATED:20240917T101530Z
LAST-MODIFIED:20240917T122740Z
UID:1338-1727292600-1727299800@acit31.com
SUMMARY:Cours par Haïm Matusof
DESCRIPTION:𝐁𝐢𝐞𝐧 𝐬𝐞 𝐩𝐫𝐞́𝐩𝐚𝐫𝐞𝐫 𝐩𝐨𝐮𝐫 𝐑𝐨𝐜𝐡 𝐇𝐚𝐜𝐡𝐚𝐧𝐚 \n\n\n\nCours à La Pizzeria de l’EDJ sur bien se préparer à la fête de Roch Hachana  \n\n\n\nCours de Torah donné par le Rav Haïm Matusof \n\n\n\nIntitulé : « Se faire pardonner\, pardonner » \n\n\n\n Mercredi 25 septembre 2024 à 19h30 \n\n\n\n𝑆ℎ𝑎𝑣𝑜𝑢𝑎 𝑇𝑜𝑣
URL:https://acit31.com/evenement/se-faire-pardonner-pardonner
CATEGORIES:cours
ATTACH;FMTTYPE=image/jpeg:https://acit31.com/wp-content/uploads/2024/09/cours.jpeg
END:VEVENT
END:VCALENDAR