BEGIN:VCALENDAR
VERSION:2.0
PRODID:-//ACIT - ECPv6.15.20//NONSGML v1.0//EN
CALSCALE:GREGORIAN
METHOD:PUBLISH
X-ORIGINAL-URL:https://acit31.com
X-WR-CALDESC:Évènements pour ACIT
REFRESH-INTERVAL;VALUE=DURATION:PT1H
X-Robots-Tag:noindex
X-PUBLISHED-TTL:PT1H
BEGIN:VTIMEZONE
TZID:Europe/Paris
BEGIN:DAYLIGHT
TZOFFSETFROM:+0100
TZOFFSETTO:+0200
TZNAME:CEST
DTSTART:20230326T010000
END:DAYLIGHT
BEGIN:STANDARD
TZOFFSETFROM:+0200
TZOFFSETTO:+0100
TZNAME:CET
DTSTART:20231029T010000
END:STANDARD
BEGIN:DAYLIGHT
TZOFFSETFROM:+0100
TZOFFSETTO:+0200
TZNAME:CEST
DTSTART:20240331T010000
END:DAYLIGHT
BEGIN:STANDARD
TZOFFSETFROM:+0200
TZOFFSETTO:+0100
TZNAME:CET
DTSTART:20241027T010000
END:STANDARD
BEGIN:DAYLIGHT
TZOFFSETFROM:+0100
TZOFFSETTO:+0200
TZNAME:CEST
DTSTART:20250330T010000
END:DAYLIGHT
BEGIN:STANDARD
TZOFFSETFROM:+0200
TZOFFSETTO:+0100
TZNAME:CET
DTSTART:20251026T010000
END:STANDARD
END:VTIMEZONE
BEGIN:VEVENT
DTSTART;TZID=Europe/Paris:20241022T193000
DTEND;TZID=Europe/Paris:20241022T213000
DTSTAMP:20260425T135523
CREATED:20241021T111023Z
LAST-MODIFIED:20241021T111024Z
UID:1466-1729625400-1729632600@acit31.com
SUMMARY:Cours par Yaïr Ziri
DESCRIPTION:Chers amis\, pour bien démarrer l’année avec un cours de Torah pendant les fêtes de Souccot  \n\n\n\nRetrouvons nous sous la soucca de l’EDJ Mardi 22/10 à partir de 19h30 autour de bonnes et d’un cours du Rav Yair Ziri \n\n\n\nThème : \n\n\n\n« 𝐒𝐨𝐮𝐜𝐜𝐨𝐭: 𝐏𝐞𝐭𝐢𝐭𝐞𝐬 𝐚𝐜𝐭𝐢𝐨𝐧𝐬\, 𝐆𝐫𝐚𝐧𝐝𝐞𝐬 𝐜𝐨𝐧𝐬𝐞́𝐪𝐮𝐞𝐧𝐜𝐞𝐬 » \n\n\n\nSoyons nombreux pour nous renforcer ! \n\n\n\nRéservations possibles au  07 68 81 32 00
URL:https://acit31.com/evenement/cours-par-yair-ziri
CATEGORIES:cours
ATTACH;FMTTYPE=image/jpeg:https://acit31.com/wp-content/uploads/2024/10/cours-de-torah.jpeg
END:VEVENT
END:VCALENDAR