BEGIN:VCALENDAR
VERSION:2.0
PRODID:-//ACIT - ECPv6.15.20//NONSGML v1.0//EN
CALSCALE:GREGORIAN
METHOD:PUBLISH
X-WR-CALNAME:ACIT
X-ORIGINAL-URL:https://acit31.com
X-WR-CALDESC:Évènements pour ACIT
REFRESH-INTERVAL;VALUE=DURATION:PT1H
X-Robots-Tag:noindex
X-PUBLISHED-TTL:PT1H
BEGIN:VTIMEZONE
TZID:Europe/Paris
BEGIN:DAYLIGHT
TZOFFSETFROM:+0100
TZOFFSETTO:+0200
TZNAME:CEST
DTSTART:20230326T010000
END:DAYLIGHT
BEGIN:STANDARD
TZOFFSETFROM:+0200
TZOFFSETTO:+0100
TZNAME:CET
DTSTART:20231029T010000
END:STANDARD
BEGIN:DAYLIGHT
TZOFFSETFROM:+0100
TZOFFSETTO:+0200
TZNAME:CEST
DTSTART:20240331T010000
END:DAYLIGHT
BEGIN:STANDARD
TZOFFSETFROM:+0200
TZOFFSETTO:+0100
TZNAME:CET
DTSTART:20241027T010000
END:STANDARD
BEGIN:DAYLIGHT
TZOFFSETFROM:+0100
TZOFFSETTO:+0200
TZNAME:CEST
DTSTART:20250330T010000
END:DAYLIGHT
BEGIN:STANDARD
TZOFFSETFROM:+0200
TZOFFSETTO:+0100
TZNAME:CET
DTSTART:20251026T010000
END:STANDARD
END:VTIMEZONE
BEGIN:VEVENT
DTSTART;TZID=Europe/Paris:20241106T200000
DTEND;TZID=Europe/Paris:20241106T223000
DTSTAMP:20260425T122551
CREATED:20240926T080602Z
LAST-MODIFIED:20241031T095256Z
UID:1357-1730923200-1730932200@acit31.com
SUMMARY:Conférence : les défis de la famille juive
DESCRIPTION:✨ Conférence : Les Défis des Familles Juives Modernes ✨ \n\n\n\nVenez vivre une soirée inspirante et pleine de sens avec Mariacha & Avraham Drai ! 🎤💬 \n\n\n\nIls aborderont les grands défis auxquels font face les familles juives aujourd’hui\, avec des conseils concrets et des échanges enrichissants. 🤝👨‍👩‍👧‍👦 \n\n\n\n🍴 Buffet Halavi à partager\, pour discuter et passer un bon moment tous ensemble ! \n\n\n\n📅 Mercredi 6 novembre à 20h📍 Espace du Judaïsme – Salle Jérusalem2 Place Riquet\, 31000 Toulouse📞 05 62 73 46 46 \n\n\n\n💸 PAF : 10€ \n\n\n\nOn vous attend nombreux pour cette soirée pleine d’échanges et de convivialité ! 😄 \n\n\n\n\n\n\n\n\n\n\n\n 
URL:https://acit31.com/evenement/conference
CATEGORIES:cours
ATTACH;FMTTYPE=image/jpeg:https://acit31.com/wp-content/uploads/2024/09/WhatsApp-Image-2024-09-26-at-15.13.45.jpeg
END:VEVENT
BEGIN:VEVENT
DTSTART;TZID=Europe/Paris:20241113T200000
DTEND;TZID=Europe/Paris:20241113T223000
DTSTAMP:20260425T122551
CREATED:20241030T101820Z
LAST-MODIFIED:20241030T103718Z
UID:1484-1731528000-1731537000@acit31.com
SUMMARY:AFRACHAT HALLA
DESCRIPTION:✨ AFRACHAT HALLA POUR LA LIBÉRATION DES OTAGES & PROTECTION DES HAYALIM ✨ \n\n\n\n🥖🕊️ Atelier Halla & Babka pour toutes\, petits et grands !🌸 Animation musicale live par Meleha pour enflammer la soirée ! 🎶 \n\n\n\n🌷 Soirée exclusivement féminine organisée par l’ACIT et la Rabbanit Tsiporah Naim📅 Mercredi 13 Novembre à 20h📍 À L’EDJ \n\n\n\n🍣 Buffet sushis et salades à volonté ! 😋 \n\n\n\nVenez nombreuses pour une soirée pleine d’énergie et de sens ! 🤲💖 \n\n\n\nAfrachatHala #UniesPourLesHayalim #SoiréeFemmes
URL:https://acit31.com/evenement/afrachat-halla
CATEGORIES:Afrachat Halla
ATTACH;FMTTYPE=image/jpeg:https://acit31.com/wp-content/uploads/2024/10/afrachat-hala-4.jpg
END:VEVENT
BEGIN:VEVENT
DTSTART;TZID=Europe/Paris:20241114T170000
DTEND;TZID=Europe/Paris:20241115T190000
DTSTAMP:20260425T122551
CREATED:20241105T185349Z
LAST-MODIFIED:20241105T185415Z
UID:1539-1731603600-1731697200@acit31.com
SUMMARY:Chabbat Communautaire
DESCRIPTION:
URL:https://acit31.com/evenement/chabbat-communautaire-2
CATEGORIES:chabbat
ATTACH;FMTTYPE=image/jpeg:https://acit31.com/wp-content/uploads/2024/11/Ajouter-un-titre-3.jpg
END:VEVENT
END:VCALENDAR