BEGIN:VCALENDAR
VERSION:2.0
PRODID:-//ACIT - ECPv6.15.20//NONSGML v1.0//EN
CALSCALE:GREGORIAN
METHOD:PUBLISH
X-ORIGINAL-URL:https://acit31.com
X-WR-CALDESC:Évènements pour ACIT
REFRESH-INTERVAL;VALUE=DURATION:PT1H
X-Robots-Tag:noindex
X-PUBLISHED-TTL:PT1H
BEGIN:VTIMEZONE
TZID:Europe/Paris
BEGIN:DAYLIGHT
TZOFFSETFROM:+0100
TZOFFSETTO:+0200
TZNAME:CEST
DTSTART:20240331T010000
END:DAYLIGHT
BEGIN:STANDARD
TZOFFSETFROM:+0200
TZOFFSETTO:+0100
TZNAME:CET
DTSTART:20241027T010000
END:STANDARD
BEGIN:DAYLIGHT
TZOFFSETFROM:+0100
TZOFFSETTO:+0200
TZNAME:CEST
DTSTART:20250330T010000
END:DAYLIGHT
BEGIN:STANDARD
TZOFFSETFROM:+0200
TZOFFSETTO:+0100
TZNAME:CET
DTSTART:20251026T010000
END:STANDARD
BEGIN:DAYLIGHT
TZOFFSETFROM:+0100
TZOFFSETTO:+0200
TZNAME:CEST
DTSTART:20260329T010000
END:DAYLIGHT
BEGIN:STANDARD
TZOFFSETFROM:+0200
TZOFFSETTO:+0100
TZNAME:CET
DTSTART:20261025T010000
END:STANDARD
END:VTIMEZONE
BEGIN:VEVENT
DTSTART;TZID=Europe/Paris:20250302T143000
DTEND;TZID=Europe/Paris:20250302T180000
DTSTAMP:20260425T052046
CREATED:20250123T085205Z
LAST-MODIFIED:20250225T115934Z
UID:2245-1740925800-1740938400@acit31.com
SUMMARY:ATELIER FABRICATION GATEAUX DE POURIM
DESCRIPTION:🎭✨ POURIM SAMEAH – Un moment de joie et de partage ! ✨🎭 \n\n\n\n📅 Le 2 mars 2025 à 14h30📍 EDJ – 2 Place Riquet \n\n\n\nLa Rabbanite Tsiporah vous invite à un événement spécial 100% féminin pour célébrer Rosh Hodesh Adar dans une ambiance festive et chaleureuse ! \n\n\n\n🔹 Dvar Torah sur la joie avec le Rav Doron Naïm🍰 Atelier gâteaux animé par Myriam Benichou & Laëtitia Benadiba💃 Animation danse par les élèves de Marika🍪 Buffet gâteaux pour régaler vos papilles ! \n\n\n\n🎟 Tarif : 15€ par personne | Gratuit pour les moins de 12 ans \n\n\n\n📞 Infos & Réservations : 05.62.73.46.46 \n\n\n\nNe manquez pas cette occasion unique de célébrer ensemble dans la joie et la convivialité ! 🎉✨
URL:https://acit31.com/evenement/atelier-fabrication-gateaux-de-pourim
ATTACH;FMTTYPE=image/jpeg:https://acit31.com/wp-content/uploads/2025/01/SHABBAT-5.jpg
END:VEVENT
BEGIN:VEVENT
DTSTART;TZID=Europe/Paris:20250307T193000
DTEND;TZID=Europe/Paris:20250307T230000
DTSTAMP:20260425T052046
CREATED:20250123T094354Z
LAST-MODIFIED:20250123T094410Z
UID:2256-1741375800-1741388400@acit31.com
SUMMARY:CHABBAT ZAKHOR COMMUNAUTAIRE
DESCRIPTION:REPAS CHABBATIQUE COMMUNAUTAIRE A L’EDJ
URL:https://acit31.com/evenement/chabbat-zakhor-communautaire
END:VEVENT
BEGIN:VEVENT
DTSTART;TZID=Europe/Paris:20250311T200000
DTEND;TZID=Europe/Paris:20250311T220000
DTSTAMP:20260425T052046
CREATED:20250123T084558Z
LAST-MODIFIED:20250123T084644Z
UID:2241-1741723200-1741730400@acit31.com
SUMMARY:Cours de Torah pizzéria EDJ
DESCRIPTION:
URL:https://acit31.com/evenement/cours-de-torah-pizzeria-edj-2
END:VEVENT
BEGIN:VEVENT
DTSTART;TZID=Europe/Paris:20250313T200000
DTEND;TZID=Europe/Paris:20250313T230000
DTSTAMP:20260425T052046
CREATED:20250123T093823Z
LAST-MODIFIED:20250123T093845Z
UID:2254-1741896000-1741906800@acit31.com
SUMMARY:GRANDE SOIREE DE POURIM A L'EDJ
DESCRIPTION:
URL:https://acit31.com/evenement/grande-soiree-de-pourim-a-ledj
END:VEVENT
END:VCALENDAR