BEGIN:VCALENDAR
VERSION:2.0
PRODID:-//ACIT - ECPv6.15.20//NONSGML v1.0//EN
CALSCALE:GREGORIAN
METHOD:PUBLISH
X-ORIGINAL-URL:https://acit31.com
X-WR-CALDESC:Évènements pour ACIT
REFRESH-INTERVAL;VALUE=DURATION:PT1H
X-Robots-Tag:noindex
X-PUBLISHED-TTL:PT1H
BEGIN:VTIMEZONE
TZID:Europe/Paris
BEGIN:DAYLIGHT
TZOFFSETFROM:+0100
TZOFFSETTO:+0200
TZNAME:CEST
DTSTART:20240331T010000
END:DAYLIGHT
BEGIN:STANDARD
TZOFFSETFROM:+0200
TZOFFSETTO:+0100
TZNAME:CET
DTSTART:20241027T010000
END:STANDARD
BEGIN:DAYLIGHT
TZOFFSETFROM:+0100
TZOFFSETTO:+0200
TZNAME:CEST
DTSTART:20250330T010000
END:DAYLIGHT
BEGIN:STANDARD
TZOFFSETFROM:+0200
TZOFFSETTO:+0100
TZNAME:CET
DTSTART:20251026T010000
END:STANDARD
BEGIN:DAYLIGHT
TZOFFSETFROM:+0100
TZOFFSETTO:+0200
TZNAME:CEST
DTSTART:20260329T010000
END:DAYLIGHT
BEGIN:STANDARD
TZOFFSETFROM:+0200
TZOFFSETTO:+0100
TZNAME:CET
DTSTART:20261025T010000
END:STANDARD
END:VTIMEZONE
BEGIN:VEVENT
DTSTART;TZID=Europe/Paris:20250916T193000
DTEND;TZID=Europe/Paris:20250916T220000
DTSTAMP:20260424T175705
CREATED:20250916T095944Z
LAST-MODIFIED:20250917T103027Z
UID:3100-1758051000-1758060000@acit31.com
SUMMARY:Cours de Torah - Mamishe
DESCRIPTION:🔥 Soirée exceptionnelle à Toulouse 🔥 \n\n\n\n📖 Cours de Torah avec le Rav Yaïr ZiriThème : « Apprendre à grandir » \n\n\n\n🍔 Au programme : un moment spirituel enrichissant suivi d’un délicieux repas convivial (burger + frites + boisson) pour seulement 15€ ! \n\n\n\n🗓 Mardi 16 septembre 2025🕢 Accueil dès 19h30 – Début du cours à 21h📍 Mamishe – 2 Place Riquet\, 31000 Toulouse \n\n\n\n📲 Réservations : 07 71 08 87 21 \n\n\n\nUn rendez-vous à ne pas manquer : nourrir l’esprit et le corps dans une ambiance chaleureuse et fraternelle
URL:https://acit31.com/evenement/cours-de-torah-mamishe
CATEGORIES:cours
ATTACH;FMTTYPE=image/jpeg:https://acit31.com/wp-content/uploads/2025/09/WhatsApp-Image-2025-09-16-at-09.42.45.jpeg
END:VEVENT
BEGIN:VEVENT
DTSTART;TZID=Europe/Paris:20250919T190000
DTEND;TZID=Europe/Paris:20250920T200000
DTSTAMP:20260424T175705
CREATED:20250917T103221Z
LAST-MODIFIED:20250917T103222Z
UID:3103-1758308400-1758398400@acit31.com
SUMMARY:Chabbat Communautaire
DESCRIPTION:L’ACIT vous invite à célébrer un Chabbat communautaire spécial les 19 et 20 septembre à l’Espace du Judaïsme\, situé au 2 Place Riquet\, 31000 Toulouse. \n\n\n\nRejoignez-nous pour partager un moment de convivialité\, de spiritualité et de tradition au cœur de notre communauté. Cette rencontre sera l’occasion idéale pour renforcer nos liens et vivre ensemble un Chabbat inoubliable. \n\n\n\nInformations pratiques : \n\n\n\n\nDates : 6 et 7 septembre\n\n\n\nLieu : Espace du Judaïsme\, 2 Place Riquet\, 31000 Toulouse\n\n\n\nParticipation aux frais :\n\n15€ pour les étudiants et les enfants\n\n\n\n35€ par repas\n\n\n\n\n\n\nPour plus d’informations et pour réserver vos places\, veuillez contacter le 05 62 73 46 46. \n\n\n\nNe manquez pas cette opportunité de vivre un Chabbat chaleureux et enrichissant en compagnie de notre communauté. Nous vous attendons nombreux !
URL:https://acit31.com/evenement/chabbat-communautaire-3
CATEGORIES:chabbat
ATTACH;FMTTYPE=image/jpeg:https://acit31.com/wp-content/uploads/2025/09/Chabbat-Communautaire-09.2025.jpg
END:VEVENT
BEGIN:VEVENT
DTSTART;TZID=Europe/Paris:20250921T073000
DTEND;TZID=Europe/Paris:20250921T090000
DTSTAMP:20260424T175705
CREATED:20250917T103357Z
LAST-MODIFIED:20250917T103426Z
UID:3106-1758439800-1758445200@acit31.com
SUMMARY:Selihot communautaire
DESCRIPTION:
URL:https://acit31.com/evenement/selihot-communautaire
ATTACH;FMTTYPE=image/jpeg:https://acit31.com/wp-content/uploads/2025/09/WhatsApp-Image-2025-09-11-at-12.34.07.jpeg
END:VEVENT
END:VCALENDAR