BEGIN:VCALENDAR
VERSION:2.0
PRODID:-//ACIT - ECPv6.15.20//NONSGML v1.0//EN
CALSCALE:GREGORIAN
METHOD:PUBLISH
X-WR-CALNAME:ACIT
X-ORIGINAL-URL:https://acit31.com
X-WR-CALDESC:Évènements pour ACIT
REFRESH-INTERVAL;VALUE=DURATION:PT1H
X-Robots-Tag:noindex
X-PUBLISHED-TTL:PT1H
BEGIN:VTIMEZONE
TZID:Europe/Paris
BEGIN:DAYLIGHT
TZOFFSETFROM:+0100
TZOFFSETTO:+0200
TZNAME:CEST
DTSTART:20240331T010000
END:DAYLIGHT
BEGIN:STANDARD
TZOFFSETFROM:+0200
TZOFFSETTO:+0100
TZNAME:CET
DTSTART:20241027T010000
END:STANDARD
BEGIN:DAYLIGHT
TZOFFSETFROM:+0100
TZOFFSETTO:+0200
TZNAME:CEST
DTSTART:20250330T010000
END:DAYLIGHT
BEGIN:STANDARD
TZOFFSETFROM:+0200
TZOFFSETTO:+0100
TZNAME:CET
DTSTART:20251026T010000
END:STANDARD
BEGIN:DAYLIGHT
TZOFFSETFROM:+0100
TZOFFSETTO:+0200
TZNAME:CEST
DTSTART:20260329T010000
END:DAYLIGHT
BEGIN:STANDARD
TZOFFSETFROM:+0200
TZOFFSETTO:+0100
TZNAME:CET
DTSTART:20261025T010000
END:STANDARD
END:VTIMEZONE
BEGIN:VEVENT
DTSTART;TZID=Europe/Paris:20251107T183000
DTEND;TZID=Europe/Paris:20251108T200000
DTSTAMP:20260424T133258
CREATED:20251031T113417Z
LAST-MODIFIED:20251031T113419Z
UID:3182-1762540200-1762632000@acit31.com
SUMMARY:Chabbat mondial - communautaire
DESCRIPTION:
URL:https://acit31.com/evenement/chabbat-mondial-communautaire
ATTACH;FMTTYPE=image/jpeg:https://acit31.com/wp-content/uploads/2025/10/Visuel-chabbat-mondial.jpg
END:VEVENT
BEGIN:VEVENT
DTSTART;TZID=Europe/Paris:20251108T203000
DTEND;TZID=Europe/Paris:20251108T233000
DTSTAMP:20260424T133258
CREATED:20251030T204852Z
LAST-MODIFIED:20251103T155653Z
UID:3176-1762633800-1762644600@acit31.com
SUMMARY:MELAVE MALKA AVEC  MOSHE ELMALEEM
DESCRIPTION:Rejoignez-nous pour un Mélavé Malka exceptionnel à l’Espace du Judaïsme\,  \n\n\n\n15€ /adulte \n\n\n\n7.5€ / étudiant
URL:https://acit31.com/evenement/melave-malka-avec-moshe-elmaleem
ATTACH;FMTTYPE=image/png:https://acit31.com/wp-content/uploads/2025/11/acit-conference-1.png
END:VEVENT
END:VCALENDAR