BEGIN:VCALENDAR
VERSION:2.0
PRODID:-//ACIT - ECPv6.15.20//NONSGML v1.0//EN
CALSCALE:GREGORIAN
METHOD:PUBLISH
X-WR-CALNAME:ACIT
X-ORIGINAL-URL:https://acit31.com
X-WR-CALDESC:Évènements pour ACIT
REFRESH-INTERVAL;VALUE=DURATION:PT1H
X-Robots-Tag:noindex
X-PUBLISHED-TTL:PT1H
BEGIN:VTIMEZONE
TZID:Europe/Paris
BEGIN:DAYLIGHT
TZOFFSETFROM:+0100
TZOFFSETTO:+0200
TZNAME:CEST
DTSTART:20240331T010000
END:DAYLIGHT
BEGIN:STANDARD
TZOFFSETFROM:+0200
TZOFFSETTO:+0100
TZNAME:CET
DTSTART:20241027T010000
END:STANDARD
BEGIN:DAYLIGHT
TZOFFSETFROM:+0100
TZOFFSETTO:+0200
TZNAME:CEST
DTSTART:20250330T010000
END:DAYLIGHT
BEGIN:STANDARD
TZOFFSETFROM:+0200
TZOFFSETTO:+0100
TZNAME:CET
DTSTART:20251026T010000
END:STANDARD
BEGIN:DAYLIGHT
TZOFFSETFROM:+0100
TZOFFSETTO:+0200
TZNAME:CEST
DTSTART:20260329T010000
END:DAYLIGHT
BEGIN:STANDARD
TZOFFSETFROM:+0200
TZOFFSETTO:+0100
TZNAME:CET
DTSTART:20261025T010000
END:STANDARD
END:VTIMEZONE
BEGIN:VEVENT
DTSTART;TZID=Europe/Paris:20251201T193000
DTEND;TZID=Europe/Paris:20251201T230000
DTSTAMP:20260424T115612
CREATED:20251117T144704Z
LAST-MODIFIED:20251120T101559Z
UID:3231-1764617400-1764630000@acit31.com
SUMMARY:Atelier Beignets avec Mag en cuisine
DESCRIPTION:Hanoucca approche… et on t’a préparé une soirée de folie !  \n\n\n\nL’ACIT organise une grande soirée Atelier Beignets 🍩✨Animée par la Rabbanit Tsiporah Naïm\, avec la participation de Haya Atlan\, et l’influenceuse Mag en Cuisine ! \n\n\n\n📅 Lundi 1er décembre – 19h30 (EDJ)📍 ACIT – 2 place Riquet\, Toulouse👩‍🍳 Préparation de beignets\, buffet\, animation…🎀 Soirée réservée au public féminin💸 PAF : 25€ / personne \n\n\n\nUne soirée gourmande\, chaleureuse et 100 % Hanoucca… tu vas te régaler 🤍🔥Les places partent vite\, pense à réserver !
URL:https://acit31.com/evenement/atelier-beignets-avec-mag-en-cuisine
ATTACH;FMTTYPE=image/jpeg:https://acit31.com/wp-content/uploads/2025/11/mag-en-cuisine.jpeg
END:VEVENT
BEGIN:VEVENT
DTSTART;TZID=Europe/Paris:20251207T080000
DTEND;TZID=Europe/Paris:20251207T170000
DTSTAMP:20260424T115612
CREATED:20251117T145248Z
LAST-MODIFIED:20251117T145249Z
UID:3238-1765094400-1765126800@acit31.com
SUMMARY:Marché de hanouka
DESCRIPTION:🕎✨ L’EDJ organise son grand Marché de Hanouka ! ✨🕎 \n\n\n\nDimanche 7 décembre\, on se retrouve à l’Espace du Judaïsme pour une journée festive et chaleureuse dédiée à Hanoucca 🎉 \n\n\n\n🕘 De 9h00 à 18h00Au programme :✨ Stands✨ Animations✨ Beignets (évidemment 😋) \n\n\n\nUne super occasion de passer un bon moment\, découvrir des produits\, soutenir les exposants et profiter de l’ambiance de Hanoucca 🔥 \n\n\n\n📩 Infos & inscriptions : contact@edjtoulouse.com📞 05 62 73 45 65
URL:https://acit31.com/evenement/marche-de-hanouka
ATTACH;FMTTYPE=image/jpeg:https://acit31.com/wp-content/uploads/2025/11/WhatsApp-Image-2025-11-17-at-09.39.53.jpeg
END:VEVENT
BEGIN:VEVENT
DTSTART;TZID=Europe/Paris:20251221T090000
DTEND;TZID=Europe/Paris:20251221T120000
DTSTAMP:20260424T115612
CREATED:20251208T135556Z
LAST-MODIFIED:20251209T102240Z
UID:3301-1766307600-1766318400@acit31.com
SUMMARY:Cinéma de Hanouka - Zootopie 2
DESCRIPTION:🎬 L’ACIT vous invite pour une matinée ciné spéciale ! 🎬 \n\n\n\nRejoignez-nous pour découvrir Zootopie 2 📽️ suivi d’une distribution de jouets 🎁 et de délicieux beignets 🍩 pour tous ! \n\n\n\nLe Dimanche 21 Décembre 2024 à 9h00 au ciména Gaumonyt Labège \n\n\n\n(Merci d’apporter une pièce d’identité pour les vérifications de sécurité 🛂) \n\n\n\nOn vous attend nombreux pour ce moment convivial ! 🌟
URL:https://acit31.com/evenement/cinema-de-hanouka-zootopie-2
ATTACH;FMTTYPE=image/jpeg:https://acit31.com/wp-content/uploads/2025/12/Cinema-de-HANOUKA-1.jpg
END:VEVENT
END:VCALENDAR